BEGIN:VCALENDAR
VERSION:2.0
PRODID:-//Al Ameen Primary School - ECPv6.15.20//NONSGML v1.0//EN
CALSCALE:GREGORIAN
METHOD:PUBLISH
X-WR-CALNAME:Al Ameen Primary School
X-ORIGINAL-URL:https://alameen.bham.sch.uk
X-WR-CALDESC:Events for Al Ameen Primary School
REFRESH-INTERVAL;VALUE=DURATION:PT1H
X-Robots-Tag:noindex
X-PUBLISHED-TTL:PT1H
BEGIN:VTIMEZONE
TZID:UTC
BEGIN:STANDARD
TZOFFSETFROM:+0000
TZOFFSETTO:+0000
TZNAME:UTC
DTSTART:20240101T000000
END:STANDARD
END:VTIMEZONE
BEGIN:VEVENT
DTSTART;TZID=UTC:20250627T080000
DTEND;TZID=UTC:20250627T170000
DTSTAMP:20260421T140308
CREATED:20250204T141205Z
LAST-MODIFIED:20250204T141205Z
UID:7428-1751011200-1751043600@alameen.bham.sch.uk
SUMMARY:Muharram
DESCRIPTION:
URL:https://alameen.bham.sch.uk/event/muharram/
ATTACH;FMTTYPE=image/jpeg:https://alameen.bham.sch.uk/wp-content/uploads/2025/02/madinahharamdayview2018-scaled.jpg
END:VEVENT
END:VCALENDAR