BEGIN:VCALENDAR
VERSION:2.0
PRODID:-//Al Ameen Primary School - ECPv6.15.20//NONSGML v1.0//EN
CALSCALE:GREGORIAN
METHOD:PUBLISH
X-ORIGINAL-URL:https://alameen.bham.sch.uk
X-WR-CALDESC:Events for Al Ameen Primary School
REFRESH-INTERVAL;VALUE=DURATION:PT1H
X-Robots-Tag:noindex
X-PUBLISHED-TTL:PT1H
BEGIN:VTIMEZONE
TZID:UTC
BEGIN:STANDARD
TZOFFSETFROM:+0000
TZOFFSETTO:+0000
TZNAME:UTC
DTSTART:20240101T000000
END:STANDARD
END:VTIMEZONE
BEGIN:VEVENT
DTSTART;VALUE=DATE:20250711
DTEND;VALUE=DATE:20250712
DTSTAMP:20260421T122515
CREATED:20250204T141624Z
LAST-MODIFIED:20250204T141624Z
UID:7436-1752192000-1752278399@alameen.bham.sch.uk
SUMMARY:Srebrenica Memorial Day
DESCRIPTION:
URL:https://alameen.bham.sch.uk/event/srebrenica-memorial-day/
ATTACH;FMTTYPE=image/jpeg:https://alameen.bham.sch.uk/wp-content/uploads/2025/02/srebrenica-1.jpg
END:VEVENT
END:VCALENDAR