BEGIN:VCALENDAR
VERSION:2.0
PRODID:-//Al Ameen Primary School - ECPv6.15.20//NONSGML v1.0//EN
CALSCALE:GREGORIAN
METHOD:PUBLISH
X-ORIGINAL-URL:https://alameen.bham.sch.uk
X-WR-CALDESC:Events for Al Ameen Primary School
REFRESH-INTERVAL;VALUE=DURATION:PT1H
X-Robots-Tag:noindex
X-PUBLISHED-TTL:PT1H
BEGIN:VTIMEZONE
TZID:UTC
BEGIN:STANDARD
TZOFFSETFROM:+0000
TZOFFSETTO:+0000
TZNAME:UTC
DTSTART:20240101T000000
END:STANDARD
END:VTIMEZONE
BEGIN:VEVENT
DTSTART;TZID=UTC:20250717T163000
DTEND;TZID=UTC:20250717T213000
DTSTAMP:20260421T122222
CREATED:20250204T141926Z
LAST-MODIFIED:20250204T141926Z
UID:7442-1752769800-1752787800@alameen.bham.sch.uk
SUMMARY:Graduation and Awards Ceremony
DESCRIPTION:
URL:https://alameen.bham.sch.uk/event/graduation-and-awards-ceremony/
ATTACH;FMTTYPE=image/jpeg:https://alameen.bham.sch.uk/wp-content/uploads/2025/02/CAN_6545-scaled.jpg
END:VEVENT
END:VCALENDAR