BEGIN:VCALENDAR
VERSION:2.0
PRODID:-//Al Ameen Primary School - ECPv6.15.20//NONSGML v1.0//EN
CALSCALE:GREGORIAN
METHOD:PUBLISH
X-WR-CALNAME:Al Ameen Primary School
X-ORIGINAL-URL:https://alameen.bham.sch.uk
X-WR-CALDESC:Events for Al Ameen Primary School
REFRESH-INTERVAL;VALUE=DURATION:PT1H
X-Robots-Tag:noindex
X-PUBLISHED-TTL:PT1H
BEGIN:VTIMEZONE
TZID:UTC
BEGIN:STANDARD
TZOFFSETFROM:+0000
TZOFFSETTO:+0000
TZNAME:UTC
DTSTART:20240101T000000
END:STANDARD
END:VTIMEZONE
BEGIN:VEVENT
DTSTART;VALUE=DATE:20250721
DTEND;VALUE=DATE:20250901
DTSTAMP:20260421T105321
CREATED:20250204T142051Z
LAST-MODIFIED:20250204T142132Z
UID:7444-1753056000-1756684799@alameen.bham.sch.uk
SUMMARY:Summer Holidays
DESCRIPTION:
URL:https://alameen.bham.sch.uk/event/summer-holidays/
ATTACH;FMTTYPE=image/jpeg:https://alameen.bham.sch.uk/wp-content/uploads/2025/02/beach-concept-with-hands-holding-holidays-letters-scaled.jpg
END:VEVENT
END:VCALENDAR