BEGIN:VCALENDAR
VERSION:2.0
PRODID:-//Al Ameen Primary School - ECPv6.15.20//NONSGML v1.0//EN
CALSCALE:GREGORIAN
METHOD:PUBLISH
X-ORIGINAL-URL:https://alameen.bham.sch.uk
X-WR-CALDESC:Events for Al Ameen Primary School
REFRESH-INTERVAL;VALUE=DURATION:PT1H
X-Robots-Tag:noindex
X-PUBLISHED-TTL:PT1H
BEGIN:VTIMEZONE
TZID:UTC
BEGIN:STANDARD
TZOFFSETFROM:+0000
TZOFFSETTO:+0000
TZNAME:UTC
DTSTART:20240101T000000
END:STANDARD
END:VTIMEZONE
BEGIN:VEVENT
DTSTART;TZID=UTC:20250326T123000
DTEND;TZID=UTC:20250402T083000
DTSTAMP:20260421T111018
CREATED:20250204T103635Z
LAST-MODIFIED:20250204T103635Z
UID:7289-1742992200-1743582600@alameen.bham.sch.uk
SUMMARY:Ramadhan and Eid break
DESCRIPTION:
URL:https://alameen.bham.sch.uk/event/ramadhan-and-eid-break/
ATTACH;FMTTYPE=image/jpeg:https://alameen.bham.sch.uk/wp-content/uploads/2025/02/IMG_3334-scaled.jpeg
END:VEVENT
BEGIN:VEVENT
DTSTART;TZID=UTC:20250330T000000
DTEND;TZID=UTC:20250330T000000
DTSTAMP:20260421T111018
CREATED:20250204T120416Z
LAST-MODIFIED:20250204T120507Z
UID:7328-1743292800-1743292800@alameen.bham.sch.uk
SUMMARY:Clocks go forward 1 hour
DESCRIPTION:
URL:https://alameen.bham.sch.uk/event/clocks-go-forward-1-hour/
ATTACH;FMTTYPE=image/jpeg:https://alameen.bham.sch.uk/wp-content/uploads/2025/02/ensemble-antique-clocks-capturing-essence-time-its-historical-implications-scaled.jpg
END:VEVENT
BEGIN:VEVENT
DTSTART;VALUE=DATE:20250330
DTEND;VALUE=DATE:20250331
DTSTAMP:20260421T111018
CREATED:20250204T120544Z
LAST-MODIFIED:20250204T120544Z
UID:7333-1743292800-1743379199@alameen.bham.sch.uk
SUMMARY:Mother's Day
DESCRIPTION:
URL:https://alameen.bham.sch.uk/event/mothers-day/
ATTACH;FMTTYPE=image/jpeg:https://alameen.bham.sch.uk/wp-content/uploads/2025/02/festive-composition-with-fresh-flowers-vase-decorative-elements-wish-happy-mother-s-day-card-scaled.jpg
END:VEVENT
BEGIN:VEVENT
DTSTART;VALUE=DATE:20250331
DTEND;VALUE=DATE:20250401
DTSTAMP:20260421T111018
CREATED:20250204T100948Z
LAST-MODIFIED:20250204T100948Z
UID:7286-1743379200-1743465599@alameen.bham.sch.uk
SUMMARY:Eid Al Fitr 2025
DESCRIPTION:
URL:https://alameen.bham.sch.uk/event/eid-al-fitr-2025/
ATTACH;FMTTYPE=image/jpeg:https://alameen.bham.sch.uk/wp-content/uploads/2025/02/coffee-set-from-tray-two-cups-coffee-scaled.jpg
END:VEVENT
BEGIN:VEVENT
DTSTART;VALUE=DATE:20250402
DTEND;VALUE=DATE:20250403
DTSTAMP:20260421T111018
CREATED:20250204T120725Z
LAST-MODIFIED:20250204T120725Z
UID:7337-1743552000-1743638399@alameen.bham.sch.uk
SUMMARY:Autism Awareness Day
DESCRIPTION:
URL:https://alameen.bham.sch.uk/event/autism-awareness-day/
ATTACH;FMTTYPE=image/jpeg:https://alameen.bham.sch.uk/wp-content/uploads/2025/02/top-view-hands-little-child-arranging-color-puzzle-symbol-public-awareness-autism-spectrum-disorder-world-autism-awareness-day-caring-speak-out-campaign-togetherness-isolated-scaled.jpg
END:VEVENT
BEGIN:VEVENT
DTSTART;VALUE=DATE:20250409
DTEND;VALUE=DATE:20250410
DTSTAMP:20260421T111018
CREATED:20250204T120855Z
LAST-MODIFIED:20250204T120855Z
UID:7342-1744156800-1744243199@alameen.bham.sch.uk
SUMMARY:Deir Yassin
DESCRIPTION:On April 9\, 1948\, just weeks before the creation of the State of Israel\, members of the Irgun and Stern Gang Zionist militias attacked the village of Deir Yassin\, killing at least 107 Palestinians.
URL:https://alameen.bham.sch.uk/event/deir-yassin/
END:VEVENT
BEGIN:VEVENT
DTSTART;VALUE=DATE:20250414
DTEND;VALUE=DATE:20250415
DTSTAMP:20260421T111018
CREATED:20250204T121015Z
LAST-MODIFIED:20250204T132406Z
UID:7349-1744588800-1744675199@alameen.bham.sch.uk
SUMMARY:Vaisakhi
DESCRIPTION:
URL:https://alameen.bham.sch.uk/event/vaisakhi/
ATTACH;FMTTYPE=image/png:https://alameen.bham.sch.uk/wp-content/uploads/2025/02/freepik__upload__64390.png
END:VEVENT
BEGIN:VEVENT
DTSTART;VALUE=DATE:20250414
DTEND;VALUE=DATE:20250426
DTSTAMP:20260421T111018
CREATED:20250204T120944Z
LAST-MODIFIED:20250204T120944Z
UID:7346-1744588800-1745625599@alameen.bham.sch.uk
SUMMARY:End of term break (Easter)
DESCRIPTION:
URL:https://alameen.bham.sch.uk/event/end-of-term-break-easter/
ATTACH;FMTTYPE=image/jpeg:https://alameen.bham.sch.uk/wp-content/uploads/2025/02/beach-concept-with-hands-holding-holidays-letters-scaled.jpg
END:VEVENT
BEGIN:VEVENT
DTSTART;VALUE=DATE:20250418
DTEND;VALUE=DATE:20250419
DTSTAMP:20260421T111018
CREATED:20250204T121050Z
LAST-MODIFIED:20250204T131551Z
UID:7353-1744934400-1745020799@alameen.bham.sch.uk
SUMMARY:Good Friday
DESCRIPTION:
URL:https://alameen.bham.sch.uk/event/good-friday/
ATTACH;FMTTYPE=image/jpeg:https://alameen.bham.sch.uk/wp-content/uploads/2025/02/inside-view-church-with-religious-icons-windows-stone-arches-1-scaled.jpg
END:VEVENT
BEGIN:VEVENT
DTSTART;VALUE=DATE:20250420
DTEND;VALUE=DATE:20250421
DTSTAMP:20260421T111018
CREATED:20250204T121126Z
LAST-MODIFIED:20250204T131259Z
UID:7355-1745107200-1745193599@alameen.bham.sch.uk
SUMMARY:Easter Sunday
DESCRIPTION:
URL:https://alameen.bham.sch.uk/event/easter-sunday/
ATTACH;FMTTYPE=image/jpeg:https://alameen.bham.sch.uk/wp-content/uploads/2025/02/eggs-near-toy-hen-nest-1-scaled.jpg
END:VEVENT
BEGIN:VEVENT
DTSTART;VALUE=DATE:20250430
DTEND;VALUE=DATE:20250501
DTSTAMP:20260421T111018
CREATED:20250204T121239Z
LAST-MODIFIED:20250204T132056Z
UID:7358-1745971200-1746057599@alameen.bham.sch.uk
SUMMARY:Dhul Qa'dah
DESCRIPTION:
URL:https://alameen.bham.sch.uk/event/dhul-qadah/
ATTACH;FMTTYPE=image/jpeg:https://alameen.bham.sch.uk/wp-content/uploads/2025/02/amazing-beautiful-sky-with-clouds-with-moon-scaled.jpg
END:VEVENT
BEGIN:VEVENT
DTSTART;VALUE=DATE:20250505
DTEND;VALUE=DATE:20250506
DTSTAMP:20260421T111018
CREATED:20250204T121410Z
LAST-MODIFIED:20250204T123501Z
UID:7361-1746403200-1746489599@alameen.bham.sch.uk
SUMMARY:May Day (bank holiday)
DESCRIPTION:
URL:https://alameen.bham.sch.uk/event/may-day-bank-holiday/
ATTACH;FMTTYPE=image/jpeg:https://alameen.bham.sch.uk/wp-content/uploads/2025/02/savings-holiday-money-jar-scaled.jpg
END:VEVENT
BEGIN:VEVENT
DTSTART;VALUE=DATE:20250506
DTEND;VALUE=DATE:20250507
DTSTAMP:20260421T111018
CREATED:20250204T122231Z
LAST-MODIFIED:20250204T124306Z
UID:7368-1746489600-1746575999@alameen.bham.sch.uk
SUMMARY:World Asthma Day
DESCRIPTION:
URL:https://alameen.bham.sch.uk/event/world-asthma-day/
ATTACH;FMTTYPE=image/jpeg:https://alameen.bham.sch.uk/wp-content/uploads/2025/02/hand-holding-blue-asthma-inhaler-scaled.jpg
END:VEVENT
BEGIN:VEVENT
DTSTART;VALUE=DATE:20250510
DTEND;VALUE=DATE:20250511
DTSTAMP:20260421T111018
CREATED:20250204T122446Z
LAST-MODIFIED:20250204T124106Z
UID:7373-1746835200-1746921599@alameen.bham.sch.uk
SUMMARY:World Fairtrade Day
DESCRIPTION:
URL:https://alameen.bham.sch.uk/event/world-fairtrade-day/
ATTACH;FMTTYPE=image/jpeg:https://alameen.bham.sch.uk/wp-content/uploads/2025/02/ecofriendly-global-marketplace-with-sustainable-product-labels-international-certifications-scaled.jpg
END:VEVENT
BEGIN:VEVENT
DTSTART;VALUE=DATE:20250512
DTEND;VALUE=DATE:20250516
DTSTAMP:20260421T111018
CREATED:20250204T123010Z
LAST-MODIFIED:20250204T123010Z
UID:7379-1747008000-1747353599@alameen.bham.sch.uk
SUMMARY:SATS Week
DESCRIPTION:
URL:https://alameen.bham.sch.uk/event/sats-week/
ATTACH;FMTTYPE=image/jpeg:https://alameen.bham.sch.uk/wp-content/uploads/2025/02/front-view-kid-cheating-school-scaled.jpg
END:VEVENT
BEGIN:VEVENT
DTSTART;VALUE=DATE:20250512
DTEND;VALUE=DATE:20250519
DTSTAMP:20260421T111018
CREATED:20250204T123143Z
LAST-MODIFIED:20250205T102814Z
UID:7381-1747008000-1747612799@alameen.bham.sch.uk
SUMMARY:Mental Health Awareness Week
DESCRIPTION:
URL:https://alameen.bham.sch.uk/event/mental-health-awareness-week/
ATTACH;FMTTYPE=image/png:https://alameen.bham.sch.uk/wp-content/uploads/2025/02/mental-health-2313426_1280.png
END:VEVENT
BEGIN:VEVENT
DTSTART;VALUE=DATE:20250519
DTEND;VALUE=DATE:20250524
DTSTAMP:20260421T111018
CREATED:20250204T123546Z
LAST-MODIFIED:20250204T124523Z
UID:7383-1747612800-1748044799@alameen.bham.sch.uk
SUMMARY:Walk to School Week
DESCRIPTION:
URL:https://alameen.bham.sch.uk/event/walk-to-school-week/
ATTACH;FMTTYPE=image/jpeg:https://alameen.bham.sch.uk/wp-content/uploads/2025/02/hiking-man-with-backpack-walking-forest-scaled.jpg
END:VEVENT
BEGIN:VEVENT
DTSTART;VALUE=DATE:20250526
DTEND;VALUE=DATE:20250531
DTSTAMP:20260421T111018
CREATED:20250204T132502Z
LAST-MODIFIED:20250204T132502Z
UID:7387-1748217600-1748649599@alameen.bham.sch.uk
SUMMARY:Summer Half Term Break
DESCRIPTION:
URL:https://alameen.bham.sch.uk/event/summer-half-term-break/
ATTACH;FMTTYPE=image/jpeg:https://alameen.bham.sch.uk/wp-content/uploads/2025/02/beach-concept-with-hands-holding-holidays-letters-scaled.jpg
END:VEVENT
BEGIN:VEVENT
DTSTART;VALUE=DATE:20250529
DTEND;VALUE=DATE:20250530
DTSTAMP:20260421T111018
CREATED:20250204T141127Z
LAST-MODIFIED:20250204T141127Z
UID:7425-1748476800-1748563199@alameen.bham.sch.uk
SUMMARY:Dhul Hijjah
DESCRIPTION:
URL:https://alameen.bham.sch.uk/event/dhul-hijjah/
ATTACH;FMTTYPE=image/jpeg:https://alameen.bham.sch.uk/wp-content/uploads/2025/02/file-1093-4f7df04ae41b6d94851ece6ae366c451-scaled.jpg
END:VEVENT
BEGIN:VEVENT
DTSTART;VALUE=DATE:20250604
DTEND;VALUE=DATE:20250610
DTSTAMP:20260421T111018
CREATED:20250204T132641Z
LAST-MODIFIED:20250204T132641Z
UID:7389-1748995200-1749513599@alameen.bham.sch.uk
SUMMARY:Child Safety Week
DESCRIPTION:
URL:https://alameen.bham.sch.uk/event/child-safety-week/
ATTACH;FMTTYPE=image/jpeg:https://alameen.bham.sch.uk/wp-content/uploads/2025/02/full-shot-kid-nature-1-scaled.jpg
END:VEVENT
BEGIN:VEVENT
DTSTART;VALUE=DATE:20250605
DTEND;VALUE=DATE:20250606
DTSTAMP:20260421T111018
CREATED:20250204T132733Z
LAST-MODIFIED:20250204T132733Z
UID:7392-1749081600-1749167999@alameen.bham.sch.uk
SUMMARY:World Environment Day
DESCRIPTION:
URL:https://alameen.bham.sch.uk/event/world-environment-day/
ATTACH;FMTTYPE=image/jpeg:https://alameen.bham.sch.uk/wp-content/uploads/2025/02/beautiful-landscape-bamboo-grove-forest-arashiyama-kyoto-scaled.jpg
END:VEVENT
BEGIN:VEVENT
DTSTART;VALUE=DATE:20250606
DTEND;VALUE=DATE:20250607
DTSTAMP:20260421T111018
CREATED:20250204T134228Z
LAST-MODIFIED:20250204T134228Z
UID:7402-1749168000-1749254399@alameen.bham.sch.uk
SUMMARY:Day of Arafah
DESCRIPTION:
URL:https://alameen.bham.sch.uk/event/day-of-arafah/
ATTACH;FMTTYPE=image/jpeg:https://alameen.bham.sch.uk/wp-content/uploads/2025/02/Arafah-compact-scaled.jpg
END:VEVENT
BEGIN:VEVENT
DTSTART;VALUE=DATE:20250606
DTEND;VALUE=DATE:20250610
DTSTAMP:20260421T111018
CREATED:20250204T132952Z
LAST-MODIFIED:20250204T132952Z
UID:7397-1749168000-1749513599@alameen.bham.sch.uk
SUMMARY:Eid Break
DESCRIPTION:
URL:https://alameen.bham.sch.uk/event/eid-break/
ATTACH;FMTTYPE=image/jpeg:https://alameen.bham.sch.uk/wp-content/uploads/2025/02/coffee-set-from-tray-two-cups-coffee-1-scaled.jpg
END:VEVENT
BEGIN:VEVENT
DTSTART;TZID=UTC:20250606T080000
DTEND;TZID=UTC:20250606T170000
DTSTAMP:20260421T111018
CREATED:20250204T132828Z
LAST-MODIFIED:20250204T132828Z
UID:7394-1749196800-1749229200@alameen.bham.sch.uk
SUMMARY:D-Day
DESCRIPTION:
URL:https://alameen.bham.sch.uk/event/d-day/
ATTACH;FMTTYPE=image/jpeg:https://alameen.bham.sch.uk/wp-content/uploads/2025/02/PhoNor-USNA-p012623-Omaha-9-10-Jun-unloading-1-scaled.jpg
END:VEVENT
BEGIN:VEVENT
DTSTART;VALUE=DATE:20250607
DTEND;VALUE=DATE:20250608
DTSTAMP:20260421T111018
CREATED:20250204T133059Z
LAST-MODIFIED:20250204T133059Z
UID:7399-1749254400-1749340799@alameen.bham.sch.uk
SUMMARY:Eid Al Adha
DESCRIPTION:
URL:https://alameen.bham.sch.uk/event/eid-al-adha/
ATTACH;FMTTYPE=image/jpeg:https://alameen.bham.sch.uk/wp-content/uploads/2025/02/kaaba-photo-1-scaled.jpg
END:VEVENT
BEGIN:VEVENT
DTSTART;VALUE=DATE:20250609
DTEND;VALUE=DATE:20250614
DTSTAMP:20260421T111018
CREATED:20250204T134604Z
LAST-MODIFIED:20250204T134604Z
UID:7406-1749427200-1749859199@alameen.bham.sch.uk
SUMMARY:Healthy Eating Week
DESCRIPTION:
URL:https://alameen.bham.sch.uk/event/healthy-eating-week/
ATTACH;FMTTYPE=image/jpeg:https://alameen.bham.sch.uk/wp-content/uploads/2025/02/fresh-green-salad-with-grilled-chicken-fillet-spinach-tomatoes-avocado-lemon-black-sesame-seeds-with-olive-oil-white-bowl-light-slate-background-nutrition-diet-concept-top-view-scaled.jpg
END:VEVENT
BEGIN:VEVENT
DTSTART;VALUE=DATE:20250615
DTEND;VALUE=DATE:20250616
DTSTAMP:20260421T111018
CREATED:20250204T135020Z
LAST-MODIFIED:20250204T135020Z
UID:7408-1749945600-1750031999@alameen.bham.sch.uk
SUMMARY:Father's Day
DESCRIPTION:
URL:https://alameen.bham.sch.uk/event/fathers-day/
ATTACH;FMTTYPE=image/jpeg:https://alameen.bham.sch.uk/wp-content/uploads/2025/02/dad-playing-with-baby-daughter-scaled.jpg
END:VEVENT
BEGIN:VEVENT
DTSTART;VALUE=DATE:20250617
DTEND;VALUE=DATE:20250618
DTSTAMP:20260421T111018
CREATED:20250204T140446Z
LAST-MODIFIED:20250204T140524Z
UID:7414-1750118400-1750204799@alameen.bham.sch.uk
SUMMARY:KS1 & KS2 Sports Day
DESCRIPTION:
URL:https://alameen.bham.sch.uk/event/ks1-ks2-sports-day/
ATTACH;FMTTYPE=image/jpeg:https://alameen.bham.sch.uk/wp-content/uploads/2025/02/young-woman-runner-getting-ready-run-track-scaled.jpg
END:VEVENT
BEGIN:VEVENT
DTSTART;TZID=UTC:20250618T100000
DTEND;TZID=UTC:20250618T120000
DTSTAMP:20260421T111018
CREATED:20250204T140714Z
LAST-MODIFIED:20250204T140714Z
UID:7417-1750240800-1750248000@alameen.bham.sch.uk
SUMMARY:Early Years Sports Day
DESCRIPTION:
URL:https://alameen.bham.sch.uk/event/early-years-sports-day/
ATTACH;FMTTYPE=image/png:https://alameen.bham.sch.uk/wp-content/uploads/2025/02/freepik__upload__53415.png
END:VEVENT
BEGIN:VEVENT
DTSTART;VALUE=DATE:20250620
DTEND;VALUE=DATE:20250621
DTSTAMP:20260421T111018
CREATED:20250204T135339Z
LAST-MODIFIED:20250204T135339Z
UID:7412-1750377600-1750463999@alameen.bham.sch.uk
SUMMARY:World Refugee Day
DESCRIPTION:
URL:https://alameen.bham.sch.uk/event/world-refugee-day/
ATTACH;FMTTYPE=image/jpeg:https://alameen.bham.sch.uk/wp-content/uploads/2025/02/diverse-people-refugee-camps-scaled.jpg
END:VEVENT
END:VCALENDAR