BEGIN:VCALENDAR
VERSION:2.0
PRODID:-//Al Ameen Primary School - ECPv6.15.20//NONSGML v1.0//EN
CALSCALE:GREGORIAN
METHOD:PUBLISH
X-ORIGINAL-URL:https://alameen.bham.sch.uk
X-WR-CALDESC:Events for Al Ameen Primary School
REFRESH-INTERVAL;VALUE=DURATION:PT1H
X-Robots-Tag:noindex
X-PUBLISHED-TTL:PT1H
BEGIN:VTIMEZONE
TZID:UTC
BEGIN:STANDARD
TZOFFSETFROM:+0000
TZOFFSETTO:+0000
TZNAME:UTC
DTSTART:20240101T000000
END:STANDARD
END:VTIMEZONE
BEGIN:VEVENT
DTSTART;VALUE=DATE:20250604
DTEND;VALUE=DATE:20250610
DTSTAMP:20260421T121913
CREATED:20250204T132641Z
LAST-MODIFIED:20250204T132641Z
UID:7389-1748995200-1749513599@alameen.bham.sch.uk
SUMMARY:Child Safety Week
DESCRIPTION:
URL:https://alameen.bham.sch.uk/event/child-safety-week/
ATTACH;FMTTYPE=image/jpeg:https://alameen.bham.sch.uk/wp-content/uploads/2025/02/full-shot-kid-nature-1-scaled.jpg
END:VEVENT
BEGIN:VEVENT
DTSTART;VALUE=DATE:20250605
DTEND;VALUE=DATE:20250606
DTSTAMP:20260421T121913
CREATED:20250204T132733Z
LAST-MODIFIED:20250204T132733Z
UID:7392-1749081600-1749167999@alameen.bham.sch.uk
SUMMARY:World Environment Day
DESCRIPTION:
URL:https://alameen.bham.sch.uk/event/world-environment-day/
ATTACH;FMTTYPE=image/jpeg:https://alameen.bham.sch.uk/wp-content/uploads/2025/02/beautiful-landscape-bamboo-grove-forest-arashiyama-kyoto-scaled.jpg
END:VEVENT
BEGIN:VEVENT
DTSTART;VALUE=DATE:20250606
DTEND;VALUE=DATE:20250607
DTSTAMP:20260421T121913
CREATED:20250204T134228Z
LAST-MODIFIED:20250204T134228Z
UID:7402-1749168000-1749254399@alameen.bham.sch.uk
SUMMARY:Day of Arafah
DESCRIPTION:
URL:https://alameen.bham.sch.uk/event/day-of-arafah/
ATTACH;FMTTYPE=image/jpeg:https://alameen.bham.sch.uk/wp-content/uploads/2025/02/Arafah-compact-scaled.jpg
END:VEVENT
BEGIN:VEVENT
DTSTART;VALUE=DATE:20250606
DTEND;VALUE=DATE:20250610
DTSTAMP:20260421T121913
CREATED:20250204T132952Z
LAST-MODIFIED:20250204T132952Z
UID:7397-1749168000-1749513599@alameen.bham.sch.uk
SUMMARY:Eid Break
DESCRIPTION:
URL:https://alameen.bham.sch.uk/event/eid-break/
ATTACH;FMTTYPE=image/jpeg:https://alameen.bham.sch.uk/wp-content/uploads/2025/02/coffee-set-from-tray-two-cups-coffee-1-scaled.jpg
END:VEVENT
BEGIN:VEVENT
DTSTART;TZID=UTC:20250606T080000
DTEND;TZID=UTC:20250606T170000
DTSTAMP:20260421T121913
CREATED:20250204T132828Z
LAST-MODIFIED:20250204T132828Z
UID:7394-1749196800-1749229200@alameen.bham.sch.uk
SUMMARY:D-Day
DESCRIPTION:
URL:https://alameen.bham.sch.uk/event/d-day/
ATTACH;FMTTYPE=image/jpeg:https://alameen.bham.sch.uk/wp-content/uploads/2025/02/PhoNor-USNA-p012623-Omaha-9-10-Jun-unloading-1-scaled.jpg
END:VEVENT
BEGIN:VEVENT
DTSTART;VALUE=DATE:20250607
DTEND;VALUE=DATE:20250608
DTSTAMP:20260421T121913
CREATED:20250204T133059Z
LAST-MODIFIED:20250204T133059Z
UID:7399-1749254400-1749340799@alameen.bham.sch.uk
SUMMARY:Eid Al Adha
DESCRIPTION:
URL:https://alameen.bham.sch.uk/event/eid-al-adha/
ATTACH;FMTTYPE=image/jpeg:https://alameen.bham.sch.uk/wp-content/uploads/2025/02/kaaba-photo-1-scaled.jpg
END:VEVENT
BEGIN:VEVENT
DTSTART;VALUE=DATE:20250609
DTEND;VALUE=DATE:20250614
DTSTAMP:20260421T121913
CREATED:20250204T134604Z
LAST-MODIFIED:20250204T134604Z
UID:7406-1749427200-1749859199@alameen.bham.sch.uk
SUMMARY:Healthy Eating Week
DESCRIPTION:
URL:https://alameen.bham.sch.uk/event/healthy-eating-week/
ATTACH;FMTTYPE=image/jpeg:https://alameen.bham.sch.uk/wp-content/uploads/2025/02/fresh-green-salad-with-grilled-chicken-fillet-spinach-tomatoes-avocado-lemon-black-sesame-seeds-with-olive-oil-white-bowl-light-slate-background-nutrition-diet-concept-top-view-scaled.jpg
END:VEVENT
BEGIN:VEVENT
DTSTART;VALUE=DATE:20250615
DTEND;VALUE=DATE:20250616
DTSTAMP:20260421T121913
CREATED:20250204T135020Z
LAST-MODIFIED:20250204T135020Z
UID:7408-1749945600-1750031999@alameen.bham.sch.uk
SUMMARY:Father's Day
DESCRIPTION:
URL:https://alameen.bham.sch.uk/event/fathers-day/
ATTACH;FMTTYPE=image/jpeg:https://alameen.bham.sch.uk/wp-content/uploads/2025/02/dad-playing-with-baby-daughter-scaled.jpg
END:VEVENT
BEGIN:VEVENT
DTSTART;VALUE=DATE:20250617
DTEND;VALUE=DATE:20250618
DTSTAMP:20260421T121913
CREATED:20250204T140446Z
LAST-MODIFIED:20250204T140524Z
UID:7414-1750118400-1750204799@alameen.bham.sch.uk
SUMMARY:KS1 & KS2 Sports Day
DESCRIPTION:
URL:https://alameen.bham.sch.uk/event/ks1-ks2-sports-day/
ATTACH;FMTTYPE=image/jpeg:https://alameen.bham.sch.uk/wp-content/uploads/2025/02/young-woman-runner-getting-ready-run-track-scaled.jpg
END:VEVENT
BEGIN:VEVENT
DTSTART;TZID=UTC:20250618T100000
DTEND;TZID=UTC:20250618T120000
DTSTAMP:20260421T121913
CREATED:20250204T140714Z
LAST-MODIFIED:20250204T140714Z
UID:7417-1750240800-1750248000@alameen.bham.sch.uk
SUMMARY:Early Years Sports Day
DESCRIPTION:
URL:https://alameen.bham.sch.uk/event/early-years-sports-day/
ATTACH;FMTTYPE=image/png:https://alameen.bham.sch.uk/wp-content/uploads/2025/02/freepik__upload__53415.png
END:VEVENT
BEGIN:VEVENT
DTSTART;VALUE=DATE:20250620
DTEND;VALUE=DATE:20250621
DTSTAMP:20260421T121913
CREATED:20250204T135339Z
LAST-MODIFIED:20250204T135339Z
UID:7412-1750377600-1750463999@alameen.bham.sch.uk
SUMMARY:World Refugee Day
DESCRIPTION:
URL:https://alameen.bham.sch.uk/event/world-refugee-day/
ATTACH;FMTTYPE=image/jpeg:https://alameen.bham.sch.uk/wp-content/uploads/2025/02/diverse-people-refugee-camps-scaled.jpg
END:VEVENT
BEGIN:VEVENT
DTSTART;VALUE=DATE:20250623
DTEND;VALUE=DATE:20250624
DTSTAMP:20260421T121913
CREATED:20250204T140836Z
LAST-MODIFIED:20250204T140836Z
UID:7420-1750636800-1750723199@alameen.bham.sch.uk
SUMMARY:School Phonics Screening Check
DESCRIPTION:
URL:https://alameen.bham.sch.uk/event/school-phonics-screening-check/
ATTACH;FMTTYPE=image/jpeg:https://alameen.bham.sch.uk/wp-content/uploads/2025/02/wooden-cubes-with-cat-inscription-scaled.jpg
END:VEVENT
BEGIN:VEVENT
DTSTART;VALUE=DATE:20250624
DTEND;VALUE=DATE:20250625
DTSTAMP:20260421T121913
CREATED:20250204T140933Z
LAST-MODIFIED:20250204T140933Z
UID:7423-1750723200-1750809599@alameen.bham.sch.uk
SUMMARY:Year 4 Times Tables Check
DESCRIPTION:
URL:https://alameen.bham.sch.uk/event/year-4-times-tables-check/
END:VEVENT
BEGIN:VEVENT
DTSTART;TZID=UTC:20250627T080000
DTEND;TZID=UTC:20250627T170000
DTSTAMP:20260421T121913
CREATED:20250204T141205Z
LAST-MODIFIED:20250204T141205Z
UID:7428-1751011200-1751043600@alameen.bham.sch.uk
SUMMARY:Muharram
DESCRIPTION:
URL:https://alameen.bham.sch.uk/event/muharram/
ATTACH;FMTTYPE=image/jpeg:https://alameen.bham.sch.uk/wp-content/uploads/2025/02/madinahharamdayview2018-scaled.jpg
END:VEVENT
END:VCALENDAR